BEGIN:VCALENDAR
VERSION:2.0
PRODID:-//Phuket E-Magazine - ECPv6.14.2//NONSGML v1.0//EN
CALSCALE:GREGORIAN
METHOD:PUBLISH
X-ORIGINAL-URL:https://www.phuketemagazine.com
X-WR-CALDESC:Events for Phuket E-Magazine
REFRESH-INTERVAL;VALUE=DURATION:PT1H
X-Robots-Tag:noindex
X-PUBLISHED-TTL:PT1H
BEGIN:VTIMEZONE
TZID:Asia/Krasnoyarsk
BEGIN:STANDARD
TZOFFSETFROM:+0700
TZOFFSETTO:+0700
TZNAME:+07
DTSTART:20220101T000000
END:STANDARD
END:VTIMEZONE
BEGIN:VEVENT
DTSTART;TZID=Asia/Krasnoyarsk:20221201T180000
DTEND;TZID=Asia/Krasnoyarsk:20221215T223000
DTSTAMP:20260423T164306
CREATED:20221201T064912Z
LAST-MODIFIED:20221201T114138Z
UID:10368-1669917600-1671143400@www.phuketemagazine.com
SUMMARY:Authentic Thai Cuisine at Benjarong
DESCRIPTION:ทางโรงแรมดุสิตธานี ลากูน่า ภูเก็ต ได้เปิดดำเนินการร้านอาหารเบญจรงค์อย่างไม่เป็นทางการ (soft opening) ในวันที่ 1-15 ธันวาคม 2565 ในการนี้ได้จัดให้มีส่วนลด 20% สำหรับการสั่งอาหารในราคาปกติ และพิเศษกว่านั้น ยังได้รับเครื่องดื่มที่เป็นสัญลักษณ์ของร้านเบญจรงค์เช่นกัน
URL:https://www.phuketemagazine.com/event/authentic-thai-cuisine-at-benjarong/
LOCATION:Benjarong\, 390 Moo.1 Srisoontorn Road Cherngtalay\, Thalang District\,\, Phuket\, 83110\, Thailand
ATTACH;FMTTYPE=image/jpeg:https://www.phuketemagazine.com/wp-content/uploads/2022/12/11-July_IG1.jpg
END:VEVENT
BEGIN:VEVENT
DTSTART;VALUE=DATE:20221203
DTEND;VALUE=DATE:20221211
DTSTAMP:20260423T164306
CREATED:20221206T033100Z
LAST-MODIFIED:20221206T033100Z
UID:10390-1670025600-1670716799@www.phuketemagazine.com
SUMMARY:34th Phuket King’s Cup Regatta 2022
DESCRIPTION:The Organizing Committee of the Phuket King’s Cup Regatta is pleased to announce that the 34th Phuket King’s Cup Regatta will be held this year from December 3rd – 10th. \nThis will be the first PKCR since 2019 and on behalf of The Royal Varuna Yacht Club\, the Yacht Racing Association of Thailand and the PKCR Organizing Committee we look forward to welcoming everyone back to Thailand. \nWe would like to thank our Royal Patron His Majesty the King of Thailand\, previous participants and sponsors for continuing to support the PKCR. We appreciate all the time and effort that has gone into preparing for participation in the event and racing in the Regatta. \n  \n2022 Schedule\n\n\n\nFriday\, December 2nd\nEarly IRC Sail Measurement – By Appointment Only\n\n\n\nSaturday\, December 3rd\nRegistration & IRC Measurement – Beyond Kata Resort & Spa\n10:00–16:00\n\n\nSunday\, December 4th\nRegistration – Beyond Kata Resort & Spa\nPractice Race\nSkipper’s Briefing\n10:00-16:00\n13:00\n16:30\n\n\nMonday\, December 5th to\nSaturday\, December 10th\n5 Days Class Racing and Reserve Day (December 8th) – Time of First Warning Signal\n09:00\n\n\nSaturday\, December 10th\nAwards Ceremony – Beyond Kata Resort & Spa\nEntry before 17:45\n\n\n\n\nDinghy Classes\n\n\n\nSaturday December 3rd\nRegistration\nDinghy Briefing\nDinghy First Warning Signal\n08:00-12:00\n11:00\n14:00\n\n\nSunday\, December 4th\nDinghy First Warning Signal Day 2\n11:00\n\n\nMonday\, December 5th\nDinghy First Warning Signal Day 3\n11:00\n\n\nTuesday December 6th\nDinghy First Warning Signal Day 4\n10:00\n\n\nSaturday\, December 10th\nDinghy First Prizes presented at Royal Awards Ceremony\nEntry before 17:45
URL:https://www.phuketemagazine.com/event/34th-phuket-kings-cup-regatta-2022/
ATTACH;FMTTYPE=image/jpeg:https://www.phuketemagazine.com/wp-content/uploads/2022/12/316956710_568845595251092_2901271418495946357_n.jpg
END:VEVENT
BEGIN:VEVENT
DTSTART;VALUE=DATE:20221204
DTEND;VALUE=DATE:20221206
DTSTAMP:20260423T164306
CREATED:20221206T033609Z
LAST-MODIFIED:20221206T033704Z
UID:10394-1670112000-1670284799@www.phuketemagazine.com
SUMMARY:Laguna Beach Festival
DESCRIPTION:ALERT! One more extraordinary event coming soon in Laguna Phuket. On the 4th and 5th December\, mark your calendar for the Laguna Beach Festival\, presented by Works.com at Laguna Phuket. \nเตรียมตัวให้พร้อมแล้วไปสนุกกับงาน ‘ลากูน่า บีช เฟสติวัล สนับสนุนโดย เวิร์คส์ดอทคอม‘ ที่ ลากูน่า ภูเก็ต ในวันที่ 4 และ 5 ธันวาคมนี้ \n  \nTwo days (and night!) of fun\, music\, food\, well-being\, fitness and much more!! \nA FREE event in Laguna Beach\, divided into 3 different zones! \nเทศกาลเปิดหาดครั้งยิ่งใหญ่ ณ ลากูน่า ภูเก็ต ที่มาพร้อมกับ #คอนเสิร์ตฟรี 2 วันเต็ม รวมทั้งร้านค้า และกิจกรรมมากมาย ที่แบ่งออกเป็น 3 โซน \n  \n𝐁𝐞𝐚𝐜𝐡 𝐌𝐚𝐫𝐤𝐞𝐭ลากูน่า บีช \nA variety of food stalls from #LagunaPhuket hotels and local vendors and kite experience to make kids (and adults) happy! \nพบกับบูธอาหารมากมาย จากโรงแรมในเครือลากูน่าภูเก็ต และร้านค้าต่างๆ พร้อมกับชมการแสดงว่าวและกิจกรรมอื่นๆ ให้เด็กๆสามารถร่วมมกิจกรรมอย่างสนุกสนาน \n \n𝐖𝐞𝐥𝐥𝐛𝐞𝐢𝐧𝐠 𝐃𝐞𝐜𝐤 ลากูน่า บีช \nBoost your energy with our fitness and well-being activities hosted by Technogym\, Banyan Tree Veya & Angsana Laguna Phuket \nมาร่วมกิจกรรมเพื่อสุขภาพ ไม่ว่าจะเป็นคลาสออกกำลังกายต่างๆ จาก Technogym\, Banyan Tree Veya และ Angsana Laguna Phuket \n𝐒𝐔𝐍\, 𝟒 𝐃𝐄𝐂𝐄𝐌𝐁𝐄𝐑\n1pm Revitalising Breathwork by Banyan Tree Veya\n2 pm Fitness Challenges by Technogym\n3pm Gentle Yoga by Angsana\n4pm Bootcamp by Technogym\n\n\n𝐌𝐎𝐍\, 𝟓 𝐃𝐄𝐂𝐄𝐌𝐁𝐄𝐑\n2 pm Fitness Challenges by Technogym\n3pm Spinal Stretch by Banyan Tree Veya\n4pm Bootcamp by Technogym\n5pm Dragon Boat training by Angsana\n\n \n𝐋𝐚𝐠𝐨𝐨𝐧 𝐒𝐭𝐚𝐠𝐞Laguna Grove \nSing\, dance and enjoy the music from the leading artists in Thailand with FREE ENTRY! \n4 Dec 2022: 𝐁𝐨𝐝𝐲𝐬𝐥𝐚𝐦 & 𝐏𝐚𝐥𝐚𝐩𝐡𝐨𝐥 \n5 Dec 2022: 𝐍𝐨𝐧𝐭 𝐓𝐚𝐧𝐨𝐧𝐭 \nคอนเสิร์ตฟรี จัดหนักจัดเต็มกับศิลปินชั้นนำของเมืองไทย\nวันที่ 4 ธันวาคม 2565: บอดี้สแลม และ พลพล \nวันที่ 5 ธันวาคม 2565: นนท์ ธนนท์ \n𝐕𝐈𝐏 𝐭𝐢𝐜𝐤𝐞𝐭𝐬 are available! 𝐅𝐑𝐄𝐄 but limited number!! 𝐅𝐈𝐑𝐒𝐓 𝐂𝐎𝐌𝐄 𝐅𝐈𝐑𝐒𝐓 𝐒𝐄𝐑𝐕𝐄𝐃\, collect yours at the Beach Market (4th and 5th Dec) from 12PM onwards.\n#ฟรี บัตรเข้างาน VIP สามารถรับบัตรได้บริเวณ Beach Market ตั้งแต่เที่ยงเป็นต้นไป (บัตรมีจำนวนจำกัด)\n\n\n\n \n\n Here is the event map that will make your ‘festival-hopping’ smooth and easy! SAVE IT and keep it handy! \n\nUse our complimentary transportation service  \n\n\nSHUTTLE BUS – from 11.30am to midnight \n Stop 1: Laguna Phuket Central Carpark\n Stop 2: Beach Market\n Stop 3: Boat Avenue Parking opposite Chaba\, behind Little Prince Indian Restaurant\n\n\nSHUTTLE BOAT – from 11.30am to 07.30pm \nCanal Village – Azura Jetty\, both ways\n\n\n\n\n\n\n\nดูข้อมูลเพิ่มเติมเกี่ยวกับแผนผังภายในงานและที่จอดรถ\n\n\nภายในงานมีบริการรถและเรือรับส่ง #ฟรี   \n\n\nบริการรถรับส่ง ตั้งแต่ 11.30 น. ถึงเที่ยงคืน \n จุดที่ 1: ลานจอดรถส่วนกลาง ลากูน่า ภูเก็ต\n จุดที่ 2: บีชมาร์เก็ต (ตลาดริมหาด)\n จุดที่ 3: ลานจอดรถโบ๊ทอเวนิว ตรงข้ามร้านอาหารชบา หลังร้านอาหารลิตเติ้ลปรินซ์ อินเดียน\n\n\nบริการรถเรือรับส่ง ตั้งแต่ 11.30 น. ถึง 19.30 น. \n จุดที่ 1: คาแนลวิลเลจ\n จุดที่ 2 : อาซูร่า ภูเก็ต\n\n\n\n  \nDate: 4 & 5 Dec 2022\nTime: from 12 PM onwards…as we gather to celebrate the opening of Laguna Beach!\nLocation: Laguna Phuket \n วันที่: 4 และ 5 ธันวาคม 2565\nเวลา: ตั้งแต่ 12.00 น. เป็นต้นไป\nสถานที่: ลากูน่า ภูเก็ต \n  \nWe can’t wait to celebrate with you all \nห้ามพลาด!! ความสนุกนี้ มีแค่ 2 วันเท่านั้น 
URL:https://www.phuketemagazine.com/event/laguna-beach-festival/
ATTACH;FMTTYPE=image/jpeg:https://www.phuketemagazine.com/wp-content/uploads/2022/12/Generic-3-zone-FB-Event-cover-1920x1005-1-1024x536-1.jpg
END:VEVENT
END:VCALENDAR